BEGIN:VCALENDAR
VERSION:2.0
PRODID:-//Knights Of Columbus Council 12886 - ECPv6.15.20//NONSGML v1.0//EN
CALSCALE:GREGORIAN
METHOD:PUBLISH
X-ORIGINAL-URL:https://www.koc12886.org
X-WR-CALDESC:Events for Knights Of Columbus Council 12886
REFRESH-INTERVAL;VALUE=DURATION:PT1H
X-Robots-Tag:noindex
X-PUBLISHED-TTL:PT1H
BEGIN:VTIMEZONE
TZID:America/New_York
BEGIN:DAYLIGHT
TZOFFSETFROM:-0500
TZOFFSETTO:-0400
TZNAME:EDT
DTSTART:20170312T070000
END:DAYLIGHT
BEGIN:STANDARD
TZOFFSETFROM:-0400
TZOFFSETTO:-0500
TZNAME:EST
DTSTART:20171105T060000
END:STANDARD
BEGIN:DAYLIGHT
TZOFFSETFROM:-0500
TZOFFSETTO:-0400
TZNAME:EDT
DTSTART:20180311T070000
END:DAYLIGHT
BEGIN:STANDARD
TZOFFSETFROM:-0400
TZOFFSETTO:-0500
TZNAME:EST
DTSTART:20181104T060000
END:STANDARD
BEGIN:DAYLIGHT
TZOFFSETFROM:-0500
TZOFFSETTO:-0400
TZNAME:EDT
DTSTART:20190310T070000
END:DAYLIGHT
BEGIN:STANDARD
TZOFFSETFROM:-0400
TZOFFSETTO:-0500
TZNAME:EST
DTSTART:20191103T060000
END:STANDARD
BEGIN:DAYLIGHT
TZOFFSETFROM:-0500
TZOFFSETTO:-0400
TZNAME:EDT
DTSTART:20200308T070000
END:DAYLIGHT
BEGIN:STANDARD
TZOFFSETFROM:-0400
TZOFFSETTO:-0500
TZNAME:EST
DTSTART:20201101T060000
END:STANDARD
BEGIN:DAYLIGHT
TZOFFSETFROM:-0500
TZOFFSETTO:-0400
TZNAME:EDT
DTSTART:20210314T070000
END:DAYLIGHT
BEGIN:STANDARD
TZOFFSETFROM:-0400
TZOFFSETTO:-0500
TZNAME:EST
DTSTART:20211107T060000
END:STANDARD
BEGIN:DAYLIGHT
TZOFFSETFROM:-0500
TZOFFSETTO:-0400
TZNAME:EDT
DTSTART:20220313T070000
END:DAYLIGHT
BEGIN:STANDARD
TZOFFSETFROM:-0400
TZOFFSETTO:-0500
TZNAME:EST
DTSTART:20221106T060000
END:STANDARD
BEGIN:DAYLIGHT
TZOFFSETFROM:-0500
TZOFFSETTO:-0400
TZNAME:EDT
DTSTART:20230312T070000
END:DAYLIGHT
BEGIN:STANDARD
TZOFFSETFROM:-0400
TZOFFSETTO:-0500
TZNAME:EST
DTSTART:20231105T060000
END:STANDARD
BEGIN:DAYLIGHT
TZOFFSETFROM:-0500
TZOFFSETTO:-0400
TZNAME:EDT
DTSTART:20240310T070000
END:DAYLIGHT
BEGIN:STANDARD
TZOFFSETFROM:-0400
TZOFFSETTO:-0500
TZNAME:EST
DTSTART:20241103T060000
END:STANDARD
END:VTIMEZONE
BEGIN:VEVENT
DTSTART;TZID=America/New_York:20220408T170000
DTEND;TZID=America/New_York:20220408T181500
DTSTAMP:20260421T045617
CREATED:20210309T050151Z
LAST-MODIFIED:20240830T023319Z
UID:366-1649437200-1649441700@www.koc12886.org
SUMMARY:Fish Fry Pickup
DESCRIPTION:Come and get it while it’s hot – pick up your Fish Fry Orders today! \nCurbside pick up at St. Ann’s School – Approach from 5th Street\, Turn on Fairview\, Pull up to our Tent.
URL:https://www.koc12886.org/event/fish-fry-pickup-2/
LOCATION:St. Ann’s School Cafeteria\, 435 S 6th St\, Emmaus\, PA\, 18049\, United States
CATEGORIES:Public
END:VEVENT
BEGIN:VEVENT
DTSTART;TZID=America/New_York:20220213T170000
DTEND;TZID=America/New_York:20220213T181500
DTSTAMP:20260421T045617
CREATED:20210125T152218Z
LAST-MODIFIED:20240830T023444Z
UID:329-1644771600-1644776100@www.koc12886.org
SUMMARY:Souper Bowl Pickup
DESCRIPTION:Score Some Soup Today \nPick up your Souper Bowl Order today. It’ll be hot and ready to eat!!!
URL:https://www.koc12886.org/event/souper-bowl-pickup/
LOCATION:St. Ann’s Parish Life Center\, 526 Fairview Street\, Emmaus\, PA\, 18049\, United States
CATEGORIES:Public
END:VEVENT
BEGIN:VEVENT
DTSTART;TZID=America/New_York:20210320T163000
DTEND;TZID=America/New_York:20210320T180000
DTSTAMP:20260421T045617
CREATED:20210220T061757Z
LAST-MODIFIED:20240830T023448Z
UID:355-1616257800-1616263200@www.koc12886.org
SUMMARY:Council 20th Anniversary
DESCRIPTION:Council 20th Anniversary Mass\nThis is an especially important event as we are celebrating the 20th anniversary of the Council’s Charter which was issued March 19\, 2001 and we are also remembering and praying for the souls of the 24 known council members that are deceased. \nAs we celebrate the 20th anniversary it is interesting note that of the 32 original members\, 13 are still active members and 8 are among the 24 deceased members. There is presently no information on the other 11 original members. \nIt is unfortunate that the pandemic prevents us from having the annual anniversary dinner.
URL:https://www.koc12886.org/event/council-20th-anniversary/
LOCATION:St. Ann’s Church\, 415 S 6th Street\, Emmaus\, PA\, 18049\, United States
CATEGORIES:Public
END:VEVENT
BEGIN:VEVENT
DTSTART;TZID=America/New_York:20201003T160000
DTEND;TZID=America/New_York:20201003T180000
DTSTAMP:20260421T045617
CREATED:20200930T124524Z
LAST-MODIFIED:20240830T023454Z
UID:312-1601740800-1601748000@www.koc12886.org
SUMMARY:October - Drive-Thru Chicken BBQ Dinner
DESCRIPTION:Winner Winner Chicken Dinner!!! Allow the Knights cook for you with a delicious drive-thru BBQ Chicken Dinner. Served hot and ready to eat\, our dinner for two is only $18 and includes great tasty bbq chicken and delicious sides. You can order in advance by clicking here or order when you drive-up. You can get your dinner on October 3rd from 4pm – 6pm in the St. Ann’s Upper Parking Lot. When we cook\, you’re the winner. Hurry and pre-order now to reduce your wait time!
URL:https://www.koc12886.org/event/october-drive-thru-chicken-bbq-dinner/
LOCATION:St. Ann’s Upper Parking Lot\, 415 S 6th Street\, Emmaus\, PA\, 18049\, United States
END:VEVENT
BEGIN:VEVENT
DTSTART;TZID=America/New_York:20181118T080000
DTEND;TZID=America/New_York:20181118T110000
DTSTAMP:20260421T045617
CREATED:20171017T170000Z
LAST-MODIFIED:20240830T023503Z
UID:112-1542528000-1542538800@www.koc12886.org
SUMMARY:November Parish Breakfast
DESCRIPTION:All are welcome! Please join us and bring your appetite to the Knights of Columbus Parish Breakfast. We’ll be flipping flapjacks all morning. All proceeds will be used to support the charitable programs of your Knights Council #12886. The menu includes: pancakes\, french toast\, eggs\, bacon\, pork roll or sausage &amp; hash browns as well as beverages and a fantastic assortment of homemade desserts – YUM!. Adults are $8 \, children 6-12 are $4 (5 and under are free). Take out is available and no advance registration is needed.
URL:https://www.koc12886.org/event/november-parish-breakfast/
LOCATION:St. Ann’s School Cafeteria\, 435 S 6th St\, Emmaus\, PA\, 18049\, United States
CATEGORIES:Public
END:VEVENT
BEGIN:VEVENT
DTSTART;TZID=America/New_York:20181021T080000
DTEND;TZID=America/New_York:20181021T110000
DTSTAMP:20260421T045617
CREATED:20170924T055003Z
LAST-MODIFIED:20240830T023508Z
UID:95-1540108800-1540119600@www.koc12886.org
SUMMARY:October Parish Breakfast
DESCRIPTION:All are welcome! Please join us and bring your appetite to the Knights of Columbus Parish Breakfast. We’ll be flipping flapjacks all morning. All proceeds will be used to support the charitable programs of your Knights Council #12886. The menu includes: pancakes\, french toast\, eggs\, bacon\, pork roll or sausage &amp; hash browns as well as beverages and a fantastic assortment of homemade desserts – YUM!. Adults are $8 \, children 6-12 are $4 (5 and under are free). Take out is available and no advance registration is needed.
URL:https://www.koc12886.org/event/october-parish-breakfast/
LOCATION:St. Ann’s School Cafeteria\, 435 S 6th St\, Emmaus\, PA\, 18049\, United States
CATEGORIES:Public
END:VEVENT
BEGIN:VEVENT
DTSTART;TZID=America/New_York:20180923T080000
DTEND;TZID=America/New_York:20180923T110000
DTSTAMP:20260421T045617
CREATED:20180912T051252Z
LAST-MODIFIED:20240830T023515Z
UID:205-1537689600-1537700400@www.koc12886.org
SUMMARY:September Parish Breakfast
DESCRIPTION:All are welcome! Please join us and bring your appetite to the Knights of Columbus Parish Breakfast. We’ll be flipping flapjacks all morning. All proceeds will be used to support the charitable programs of your Knights Council #12886. The menu includes: pancakes\, french toast\, eggs\, bacon\, pork roll or sausage &amp; hash browns as well as beverages and a fantastic assortment of homemade desserts – YUM!. Adults are $8 \, children 6-12 are $4 (5 and under are free). Take out is available and no advance registration is needed.
URL:https://www.koc12886.org/event/september-parish-breakfast/
LOCATION:St. Ann’s School Cafeteria\, 435 S 6th St\, Emmaus\, PA\, 18049\, United States
CATEGORIES:Public
END:VEVENT
BEGIN:VEVENT
DTSTART;TZID=America/New_York:20180520T070000
DTEND;TZID=America/New_York:20180520T120000
DTSTAMP:20260421T045617
CREATED:20180401T130156Z
LAST-MODIFIED:20240830T023524Z
UID:162-1526799600-1526817600@www.koc12886.org
SUMMARY:May Parish Breakfast
DESCRIPTION:All are welcome! Please join us and bring your appetite to the Knights of Columbus Parish Breakfast. We’ll be flipping flapjacks all morning. All proceeds will be used to support the charitable programs of your Knights Council #12886. The menu includes: pancakes\, french toast\, eggs\, bacon\, pork roll or sausage &amp; hash browns as well as beverages and a fantastic assortment of homemade desserts – YUM!. Adults are $8 \, children 6-12 are $4 (5 and under are free). Take out is available and no advance registration is needed.
URL:https://www.koc12886.org/event/may-parish-breakfast/
LOCATION:St. Ann’s School Cafeteria\, 435 S 6th St\, Emmaus\, PA\, 18049\, United States
CATEGORIES:Public
END:VEVENT
BEGIN:VEVENT
DTSTART;TZID=America/New_York:20180415T070000
DTEND;TZID=America/New_York:20180415T120000
DTSTAMP:20260421T045617
CREATED:20180401T130102Z
LAST-MODIFIED:20240830T023529Z
UID:160-1523775600-1523793600@www.koc12886.org
SUMMARY:April Parish Breakfast
DESCRIPTION:All are welcome! Please join us and bring your appetite to the Knights of Columbus Parish Breakfast. We’ll be flipping flapjacks all morning. All proceeds will be used to support the charitable programs of your Knights Council #12886. The menu includes: pancakes\, french toast\, eggs\, bacon\, pork roll or sausage &amp; hash browns as well as beverages and a fantastic assortment of homemade desserts – YUM!. Adults are $8 \, children 6-12 are $4 (5 and under are free). Take out is available and no advance registration is needed.
URL:https://www.koc12886.org/event/april-parish-breakfast/
LOCATION:St. Ann’s School Cafeteria\, 435 S 6th St\, Emmaus\, PA\, 18049\, United States
CATEGORIES:Public
END:VEVENT
BEGIN:VEVENT
DTSTART;TZID=America/New_York:20180408T100000
DTEND;TZID=America/New_York:20180408T170000
DTSTAMP:20260421T045617
CREATED:20180401T133129Z
LAST-MODIFIED:20240830T023540Z
UID:170-1523181600-1523206800@www.koc12886.org
SUMMARY:April Food Drive
DESCRIPTION:Once again\, our very fine Knights will be at the Walmart in Trexlertown collecting non-perishable food items for the Second Harvest Food Bank and school supplies for Mercy Special Learning Center. This annual event helps stock the local food pantry which feeds countless neighbors and also gives disabled children a head start for the new school year. All you need to do is go shopping at the Walmart as usual\, but just pick up a few extra items that we need. When you leave\, just drop off the bag with us. It couldn’t be easier. We truly appreciate your generosity!
URL:https://www.koc12886.org/event/april-food-drive/
LOCATION:Trexlertown Walmart\, 1091 Mill Creek Road\, Allentown\, PA\, 18106\, United States
CATEGORIES:Public
END:VEVENT
BEGIN:VEVENT
DTSTART;TZID=America/New_York:20180311T070000
DTEND;TZID=America/New_York:20180311T120000
DTSTAMP:20260421T045617
CREATED:20180207T195623Z
LAST-MODIFIED:20240830T023551Z
UID:145-1520751600-1520769600@www.koc12886.org
SUMMARY:March Parish Breakfast
DESCRIPTION:All are welcome! Please join us and bring your appetite to the Knights of Columbus Parish Breakfast. We’ll be flipping flapjacks all morning. All proceeds will be used to support the charitable programs of your Knights Council #12886. The menu includes: pancakes\, french toast\, eggs\, bacon\, pork roll or sausage &amp; hash browns as well as beverages and a fantastic assortment of homemade desserts – YUM!. Adults are $8 \, children 6-12 are $4 (5 and under are free). Take out is available and no advance registration is needed.
URL:https://www.koc12886.org/event/march-parish-breakfast/
LOCATION:St. Ann’s School Cafeteria\, 435 S 6th St\, Emmaus\, PA\, 18049\, United States
CATEGORIES:Public
END:VEVENT
BEGIN:VEVENT
DTSTART;TZID=America/New_York:20230224T170000
DTEND;TZID=America/New_York:20230224T181500
DTSTAMP:20260421T045617
CREATED:20230212T073026Z
LAST-MODIFIED:20240830T023253Z
UID:140-1677258000-1677262500@www.koc12886.org
SUMMARY:February Lenten Seafood Dinner
DESCRIPTION:
URL:https://www.koc12886.org/event/february-lenten-seafood-dinner/
LOCATION:St. Ann’s School Cafeteria\, 435 S 6th St\, Emmaus\, PA\, 18049\, United States
CATEGORIES:Public
END:VEVENT
END:VCALENDAR